BEGIN:VCALENDAR
VERSION:2.0
PRODID:-//WP EVENT Manager Ical//NONSGML Events //EN
CALSCALE:GREGORIAN

BEGIN:VEVENT

DTSTART:20260121T103000AMZ
DTEND:20260121T120000PMZ
LOCATION:Stuttgart
SUMMARY:Brötchenservice LIVE | CMT Stuttgart 21.01.26
DESCRIPTION:Melden Sie sich jetzt für unseren exklusiven&nbsp;Brötchenservice-LIVE&nbsp;im Rahmen der&nbsp;CMT in Stuttgart&nbsp;am&nbsp;21.01.2026&nbsp;an!Nach unserem erfolgreichen ersten Brötchenservice Live im vergangenen Jahr möchten wir das Format in diesem Jahr fortsetzen und erneut eine Gelegenheit zum offenen Austausch innerhalb der Caravaning-Branche bieten. Wie schon im letzten Jahr soll die Veranstaltung Raum schaffen für Gespräche über aktuelle aktuelle Trends Entwicklungen, Herausforderungen und Impulse für das kommende Caravaning-Jahr.Sichern Sie sich Ihren Platz und werden Sie Teil eines inspirierenden Dialogs!Wann:&nbsp;Mittwoch, 21. Januar 2026Wo:&nbsp;ICS, C5.2, Messe Stuttgart mit fußläufiger Erreichbarkeit ab CMT.Uhrzeit:&nbsp;10.30 Uhr – 12.00 Uhr anschließend Lunch und NetworkingEin gültiges Eintrittsticket für die CMT ist Voraussetzung an der Teilnahme.Ablauf10.30 Uhr – 11.00 Uhr: Get together und Drinks11.00 Uhr – 12.00 Uhr: Brötchenservice LiveEinführung mit aktuellen Marktinsights und Trends zu Kundenerwartungen und dem Status Quo der Erlebnisqualitätdurch Niklas HauptKeynote zum Schlüsselthema 5 Erfolgsfaktoren zur Steigerung der Servicequalität durch Manuel WendtDiskussionsrunde mit führenden Branchenexperten12.00 Uhr – 13.00 Uhr: Nach der Diskussion laden wir Sie zu warmen Snacks und anregenden Gesprächen ein.Wir freuen uns über Ihre Teilnahme und ein persönliches Kennenlernen in Stuttgart.Weitere Infos und zur Anmeldung


END:VEVENT
END:VCALENDAR
    