BEGIN:VCALENDAR
VERSION:2.0
PRODID:-//WP EVENT Manager Ical//NONSGML Events //EN
CALSCALE:GREGORIAN

BEGIN:VEVENT

DTSTART:20250710T084500AMZ
DTEND:20250710T091500AMZ
LOCATION:Online
SUMMARY:FOCUS CARAVANING KI-ESPRESSO
DESCRIPTION:Starten Sie mit uns in den Tag und entdecken Sie, wie Künstliche Intelligenz Ihren Arbeitsalltag im Caravaning-Handel erleichtern kann! In unserer neuen Webinarreihe “Caravaning KI Espresso” präsentieren wir Ihnen in kompakten 30-minütigen Sessions spannende KI-Tools und -Techniken, die Ihre Effizienz steigern und Ihnen helfen, die Herausforderungen der Branche zu meistern.&nbsp;Das erwartet Sie:&nbsp;Monatliche Sessions zu spezifischen KI-Anwendungsfällen im Caravaning-Handel. Förderung des kontinuierlichen Wissenstransfers und der praktischen Anwendung von KI in der Branche. Praktische Lösungen für Ihren Arbeitsalltag Profitieren Sie von wertvollen Impulsen und erhalten Sie Inspiration für innovative Ideen für den Einsatz von KI in Ihrem Unternehmen.  Unsere Themen am 10. Juli:Unsere beiden Referenten,&nbsp;Niklas Haupt&nbsp;(Geschäftsführer MiiOS) und&nbsp;Stefan Heyne(Geschäftsführer Brand & Consumer Connect), zeigen am Beispiel des Chatbots&nbsp;„Vanny“, wie moderne KI-Lösungen unternehmensspezifisches Wissen auf Knopfdruck bereitstellen und stets aktuell halten.Vanny wurde von Stefan Heyne eigens für MiiOS konzipiert und mit Fachwissen angereichert – ein Praxisbeispiel für erfolgreiche KI-Integration im Unternehmen.Darüber hinaus gibt Stefan Heyne einen Einblick in Tools und konkrete Anwendungsbeispiele zum Thema&nbsp;GEO – Generative Engine Optimization&nbsp;im Caravaning-Marketing.&nbsp;


END:VEVENT
END:VCALENDAR
    