BEGIN:VCALENDAR
VERSION:2.0
PRODID:-//WP EVENT Manager Ical//NONSGML Events //EN
CALSCALE:GREGORIAN

BEGIN:VEVENT

DTSTART:20250220T084500AMZ
DTEND:20250220T091500AMZ
LOCATION:Online
SUMMARY:FOCUS CARAVANING KI-ESPRESSO
DESCRIPTION:Starten Sie mit uns in den Tag und entdecken Sie, wie Künstliche Intelligenz Ihren Arbeitsalltag im Caravaning-Handel erleichtern kann! In unserer neuen Webinarreihe “Caravaning KI Espresso” präsentieren wir Ihnen in kompakten 30-minütigen Sessions spannende KI-Tools und -Techniken, die Ihre Effizienz steigern und Ihnen helfen, die Herausforderungen der Branche zu meistern. Das erwartet Sie:&nbsp;Monatliche Sessions zu spezifischen KI-Anwendungsfällen im Caravaning-Handel.&nbsp;Förderung des kontinuierlichen Wissenstransfers und der praktischen Anwendung von KI in der Branche.&nbsp;Praktische Lösungen für Ihren Arbeitsalltag&nbsp;Profitieren Sie von wertvollen Impulsen und erhalten Sie Inspiration für innovative Ideen für den Einsatz von KI in Ihrem Unternehmen.&nbsp;&nbsp;


END:VEVENT
END:VCALENDAR
    