BEGIN:VCALENDAR
VERSION:2.0
PRODID:-//WP EVENT Manager Ical//NONSGML Events //EN
CALSCALE:GREGORIAN

BEGIN:VEVENT

DTSTART:20250528T093000AMZ
DTEND:20250528T101500AMZ
LOCATION:Online
SUMMARY:Online-Präsentation des Focus Caravaning B2B Report “Spezialisierter Handel”
DESCRIPTION:Wir laden Sie herzlich ein an unserer Online-Präsentation Focus Caravaning — Business Report “Spezialisierter Handel” am Mittwoch, 28. Mai 2025 von 09:30 – 10:15 Uhr teilzunehmen.&nbsp;In dieser Veranstaltung präsentieren wir wertvolle Erkenntnisse aus unserer repräsentativen Befragung von deutschen Reisemobil- und Wohnwagenhändlern.&nbsp;Erfahren Sie mehr über:&nbsp;– Aktuelle Stimmung rund um Vermietung & Verkauf&nbsp;– Entwicklung des Focus Caravaning Marktindex&nbsp;– Aktuelle Herausforderungen und Zukunftsperspektiven&nbsp;– Anteil & Entwicklung von Finanzierungen sowie Finanzierungspartner&nbsp;– Preisentwicklung für neue und gebrauchte Fahrzeuge&nbsp;– Fahrzeug- und Zubehörverfügbarkeit&nbsp;Die aktuellen Ergebnisse werden Ihnen von Sabine Weber, Senior Market Analyst Caravaning der gsr Unternehmensberatung GmbH und Niklas Haupt, CEO von MiiOS GmbH vorgestellt.&nbsp;Im Anschluss an die Präsentation werden&nbsp;Oleg Rubinov&nbsp;(Geschäftsführer von caravanmarkt24) und&nbsp;Ariane Finzel&nbsp;(Geschäftsführerin des Deutscher Caravaning Handels-Verband e.V. (DCHV e.V.)) die aktuelle Lage sowie die Ergebnisse einschätzen und für Fragen zur Verfügung stehen.&nbsp;Die Teilnahme ist kostenlos&nbsp;und das Teilnahmekontingent ist begrenzt – first come, first served.Der&nbsp;Focus Caravaning — Business Report 2025 “Spezialisierter Handel”&nbsp;ist eine wertvolle Grundlage für strategische Überlegungen in Industrie, Handel und bei Dienstleistern und entsteht in Zusammenarbeit mit der&nbsp;Auto Bild Reisemobil / B&M Marketing,&nbsp;CMT – Die Urlaubsmesse, dem Finanzdienstleister&nbsp;akf bank, der&nbsp;Nürnberger Versicherung&nbsp;mit dem Spezialversicherer&nbsp;Jahn & Partner&nbsp;sowie&nbsp;PiNCAMP,&nbsp;dem führenden Caravaning-Buchungsportal. Digitalpartner sind&nbsp;Caravana&nbsp;und&nbsp;caravanmarkt24.Wir freuen uns über Ihre Teilnahme!


END:VEVENT
END:VCALENDAR
    